BEGIN:VCALENDAR
VERSION:2.0
PRODID:-//Plone.org//NONSGML plone.app.event//EN
X-WR-TIMEZONE:Europe/Rome
BEGIN:VEVENT
SUMMARY:Genitori e adolescenti: rimanere connessi
DTSTART;VALUE=DATE-TIME:20160523T183000Z
DTEND;VALUE=DATE-TIME:20160523T203000Z
DTSTAMP;VALUE=DATE-TIME:20260420T132045Z
UID:120f712fd408887647758bd959b15435@127.0.0.1:8095
CATEGORIES:Incontro pubblico
CREATED;VALUE=DATE-TIME:20160519T144145Z
DESCRIPTION:Oltre l’apparenza: cosa si nasconde dietro i comportamenti d
 i mio figlio
LAST-MODIFIED;VALUE=DATE-TIME:20160603T120214Z
LOCATION:Biblioteca comunale\, via Matteotti\, 150\, Castello d'Argile
URL:https://www.ausl.bologna.it/eventi/archivio/auslevent.2016-05-19.66699
 17323
END:VEVENT
END:VCALENDAR
