BEGIN:VCALENDAR
VERSION:2.0
PRODID:-//Plone.org//NONSGML plone.app.event//EN
X-WR-TIMEZONE:Europe/Rome
BEGIN:VEVENT
SUMMARY:Cosa ci ha lasciato Giorgio
DTSTART;VALUE=DATE-TIME:20160523T130000Z
DTEND;VALUE=DATE-TIME:20160523T140000Z
DTSTAMP;VALUE=DATE-TIME:20260420T131941Z
UID:07c7a00df98ffdebbab421017f6d0f0e@127.0.0.1:8095
ATTENDEE;CN="Chiara Gibertoni, Giovanni Gordini, Carlo Coniglio, Guido Ber
 tolini, Antonella Caselli, Vanni Agnoletti";ROLE=REQ-PARTICIPANT:Chiara Gi
 bertoni, Giovanni Gordini, Carlo Coniglio, Guido Bertolini, Antonella Case
 lli, Vanni Agnoletti
CREATED;VALUE=DATE-TIME:20160519T150258Z
DESCRIPTION:Intitolazione del Centro di Formazione del Dipartimento di Eme
 rgenza a Giorgio Gambale
LAST-MODIFIED;VALUE=DATE-TIME:20160603T120216Z
LOCATION:Aula Magna\, Ospedale Maggiore - Bologna
URL:https://www.ausl.bologna.it/eventi/archivio/auslevent.2016-05-19.00863
 60959
END:VEVENT
END:VCALENDAR
