BEGIN:VCALENDAR
VERSION:2.0
PRODID:-//Plone.org//NONSGML plone.app.event//EN
X-WR-TIMEZONE:Europe/Rome
BEGIN:VEVENT
SUMMARY:Liberi dalla contenzione
DTSTART;VALUE=DATE-TIME:20160520T070000Z
DTEND;VALUE=DATE-TIME:20160520T113000Z
DTSTAMP;VALUE=DATE-TIME:20260420T131939Z
UID:cb6569602110285b26586b6e2b258fac@127.0.0.1:8095
CATEGORIES:Convegno Exposanità
CONTACT:340 779 0651 - 051 658 4871
CREATED;VALUE=DATE-TIME:20160516T144429Z
DESCRIPTION:Il percorso delle Case Residenza per Anziani di Bologna per il
  superamento della contenzione
LAST-MODIFIED;VALUE=DATE-TIME:20160603T120212Z
LOCATION:Exposanità | BolognaFiere Via della Fiera\, 20 - Sala BEETHOVEN 
 Centro Servizi (piano terra) - Bologna
URL:https://www.ausl.bologna.it/eventi/archivio/auslevent.2016-05-16.52747
 55419
END:VEVENT
END:VCALENDAR
