BEGIN:VCALENDAR
VERSION:2.0
PRODID:-//Plone.org//NONSGML plone.app.event//EN
X-WR-TIMEZONE:Europe/Rome
BEGIN:VEVENT
SUMMARY:Anziani tra diritti e doveri: verso una carta dei diritti
DTSTART;VALUE=DATE-TIME:20160519T120000Z
DTEND;VALUE=DATE-TIME:20160519T153000Z
DTSTAMP;VALUE=DATE-TIME:20260420T131930Z
UID:0faa1f8acecf04bcc1f6d48ece39ce6b@127.0.0.1:8095
CATEGORIES:Workshop
CREATED;VALUE=DATE-TIME:20160511T123410Z
DESCRIPTION:Workshop\n\n\n
LAST-MODIFIED;VALUE=DATE-TIME:20160603T120205Z
LOCATION:Quartiere Fieristico di Bologna Sala Ouverture\, Centro servizi 
 ‐ Blocco D
URL:https://www.ausl.bologna.it/eventi/archivio/auslevent.2016-05-11.87306
 05911
END:VEVENT
END:VCALENDAR
