BEGIN:VCALENDAR
VERSION:2.0
PRODID:-//Plone.org//NONSGML plone.app.event//EN
X-WR-TIMEZONE:Europe/Rome
BEGIN:VEVENT
SUMMARY:Inaugurazione della Nuova Maternità dell'Ospedale di Bentivoglio
DTSTART;VALUE=DATE-TIME:20160521T093000Z
DTEND;VALUE=DATE-TIME:20160521T110000Z
DTSTAMP;VALUE=DATE-TIME:20260420T131940Z
UID:dd32c722d118307ee530dfac7f50c235@127.0.0.1:8095
CATEGORIES:Inaugurazione
CONTACT:Comunicazione e relazioni con il cittadino\, comunicazione@ausl.bo
 logna.it
CREATED;VALUE=DATE-TIME:20160506T092656Z
DESCRIPTION:Save the Date
LAST-MODIFIED;VALUE=DATE-TIME:20160603T095000Z
LOCATION:Bentivoglio\, Ospedale
URL:https://www.ausl.bologna.it/eventi/archivio/auslevent.2016-05-06.66532
 28629
END:VEVENT
END:VCALENDAR
