BEGIN:VCALENDAR
VERSION:2.0
PRODID:-//Plone.org//NONSGML plone.app.event//EN
X-WR-TIMEZONE:Europe/Rome
BEGIN:VEVENT
SUMMARY:Incontri per la salute 
DTSTART;VALUE=DATE-TIME:20160511T150000Z
DTEND;VALUE=DATE-TIME:20160511T170000Z
DTSTAMP;VALUE=DATE-TIME:20260420T131932Z
UID:44854d7b6d429da4eb36697a3709973f@127.0.0.1:8095
CATEGORIES:Incontro
CREATED;VALUE=DATE-TIME:20160505T131657Z
DESCRIPTION:Conoscere\, prevenire\, curare il diabete - Una sana alimentaz
 ione 
LAST-MODIFIED;VALUE=DATE-TIME:20160603T094958Z
LOCATION:Vergato - Galleria 1° Maggio\, Biblioteca  
URL:https://www.ausl.bologna.it/eventi/archivio/auslevent.2016-05-05.75694
 09955
END:VEVENT
END:VCALENDAR
