BEGIN:VCALENDAR
VERSION:2.0
PRODID:-//Plone.org//NONSGML plone.app.event//EN
X-WR-TIMEZONE:Europe/Rome
BEGIN:VEVENT
SUMMARY:Incontri per la salute
DTSTART;VALUE=DATE-TIME:20160525T150000Z
DTEND;VALUE=DATE-TIME:20160525T170000Z
DTSTAMP;VALUE=DATE-TIME:20260420T131931Z
UID:911ef1060f3e418f14e20249dfd1ae72@127.0.0.1:8095
CATEGORIES:Incontro
CREATED;VALUE=DATE-TIME:20160505T134835Z
DESCRIPTION:La prevenzione cardiovascolare
LAST-MODIFIED;VALUE=DATE-TIME:20160603T094959Z
LOCATION:Vergato - Galleria 1° Maggio\, Biblioteca
URL:https://www.ausl.bologna.it/eventi/archivio/auslevent.2016-05-05.70430
 94551
END:VEVENT
END:VCALENDAR
