BEGIN:VCALENDAR
VERSION:2.0
PRODID:-//Plone.org//NONSGML plone.app.event//EN
X-WR-TIMEZONE:Europe/Rome
BEGIN:VEVENT
SUMMARY:Camminata al Parco dei Noci con Datti una Mossa!
DTSTART;VALUE=DATE-TIME:20160520T173000Z
DTEND;VALUE=DATE-TIME:20160520T190000Z
DTSTAMP;VALUE=DATE-TIME:20260420T111953Z
UID:ddeb675b9f27509fdc595a0e9a2edd75@127.0.0.1:8095
CATEGORIES:Camminata
CONTACT:Circolo Ravone\, 051 3172982\, circolo.ravone@ausl.bologna.it
CREATED;VALUE=DATE-TIME:20160504T074435Z
DESCRIPTION:Camminata ludico motoria
LAST-MODIFIED;VALUE=DATE-TIME:20160603T120441Z
LOCATION:Bologna\, Parco dei Noci
URL:https://www.ausl.bologna.it/eventi/archivio/auslevent.2016-05-04.09517
 24320
END:VEVENT
END:VCALENDAR
