BEGIN:VCALENDAR
VERSION:2.0
PRODID:-//Plone.org//NONSGML plone.app.event//EN
X-WR-TIMEZONE:Europe/Rome
BEGIN:VEVENT
SUMMARY:I servizi socio-sanitari a Crevalcore
DTSTART;VALUE=DATE-TIME:20160415T183000Z
DTEND;VALUE=DATE-TIME:20160415T203000Z
DTSTAMP;VALUE=DATE-TIME:20260422T133816Z
UID:23ededf7bbc43c344aa2ff3ab4350d6c@127.0.0.1:8095
CATEGORIES:Assemblea Pubblica
CREATED;VALUE=DATE-TIME:20160406T143532Z
DESCRIPTION:Assemblea Pubblica - Comitato Consultivo Misto del Distretto P
 ianura Ovest\n
LAST-MODIFIED;VALUE=DATE-TIME:20160603T120210Z
LOCATION:Auditorium 1° Maggio Viale Caduti di Via Fani 302 Crevalcore (BO
 )
URL:https://www.ausl.bologna.it/eventi/archivio/auslevent.2016-04-06.58135
 66709
END:VEVENT
END:VCALENDAR
