BEGIN:VCALENDAR
VERSION:2.0
PRODID:-//Plone.org//NONSGML plone.app.event//EN
X-WR-TIMEZONE:Europe/Rome
BEGIN:VEVENT
SUMMARY:Tra la vita e la morte - Due confraternite bolognesi tra Medioevo 
 e Età Moderna
DTSTART;VALUE=DATE-TIME:20160319T143000Z
DTEND;VALUE=DATE-TIME:20160319T163000Z
DTSTAMP;VALUE=DATE-TIME:20260422T120753Z
UID:d1c13660f0883176de2cd56a45516d25@127.0.0.1:8095
CATEGORIES:Giornata di studio
CREATED;VALUE=DATE-TIME:20160317T160800Z
DESCRIPTION:Ricerche\, novità\, nuove attribuzioni sulle opere del Comple
 sso di S. Maria della Vita - Giornata di Studi
LAST-MODIFIED;VALUE=DATE-TIME:20160504T075842Z
LOCATION:Complesso monumentale di S. Maria della Vita - Via Clavature 8-10
  - Bologna 
URL:https://www.ausl.bologna.it/eventi/archivio/auslevent.2016-03-17.69322
 99393
END:VEVENT
END:VCALENDAR
