BEGIN:VCALENDAR
VERSION:2.0
PRODID:-//Plone.org//NONSGML plone.app.event//EN
X-WR-TIMEZONE:Europe/Rome
BEGIN:VEVENT
SUMMARY:MuoviBO
DTSTART;VALUE=DATE-TIME:20160320T093000Z
DTEND;VALUE=DATE-TIME:20160320T113000Z
DTSTAMP;VALUE=DATE-TIME:20260420T112127Z
UID:36d207f4b9440a8613b7325f720ac47f@127.0.0.1:8095
CATEGORIES:Camminata
CREATED;VALUE=DATE-TIME:20160317T163636Z
DESCRIPTION:Parte la Metropolitana Urbana di Bologna 
LAST-MODIFIED;VALUE=DATE-TIME:20160603T094951Z
LOCATION:Bologna - Piazza Ravegnana
URL:https://www.ausl.bologna.it/eventi/archivio/auslevent.2016-03-17.11677
 43087
END:VEVENT
END:VCALENDAR
