BEGIN:VCALENDAR
VERSION:2.0
PRODID:-//Plone.org//NONSGML plone.app.event//EN
X-WR-TIMEZONE:Europe/Rome
BEGIN:VEVENT
SUMMARY:Meno Sale più salute e Orti e balconi aromatici  
DTSTART;VALUE=DATE-TIME:20160412T120000Z
DTEND;VALUE=DATE-TIME:20160412T140000Z
DTSTAMP;VALUE=DATE-TIME:20260422T120753Z
UID:d5c5292291609e5f4ceb13e833dd63a4@127.0.0.1:8095
ATTENDEE;CN="Tutti gli operatori dell'Ospedale Bellaria";ROLE=REQ-PARTICIP
 ANT:Tutti gli operatori dell'Ospedale Bellaria
CATEGORIES:Giornata di prevenzione
CONTACT:UOC Alimenti e nutrizione Città - DSP\, igienenutrizione@ausl.bol
 ogna.it
CREATED;VALUE=DATE-TIME:20160310T073906Z
DESCRIPTION:Quarto appuntamento di Bellaria InFORMA\n
LAST-MODIFIED;VALUE=DATE-TIME:20160603T094946Z
LOCATION:Aula magna pad. Tinozzi - Ospedale Bellaria
URL:https://www.ausl.bologna.it/eventi/archivio/auslevent.2016-03-10.43248
 19078
END:VEVENT
END:VCALENDAR
