BEGIN:VCALENDAR
VERSION:2.0
PRODID:-//Plone.org//NONSGML plone.app.event//EN
X-WR-TIMEZONE:Europe/Rome
BEGIN:VEVENT
SUMMARY:L’oggi e il domani dei CCM 
DTSTART;VALUE=DATE-TIME:20160315T133000Z
DTEND;VALUE=DATE-TIME:20160315T173000Z
DTSTAMP;VALUE=DATE-TIME:20260422T120753Z
UID:e0de08c3f0abadfd129e9a32bffb9313@127.0.0.1:8095
CATEGORIES:Convegno
CONTACT:Segreteria CCM Distretto Città di Bologna\, segreteriaccmbo@ausl.
 bologna.it
CREATED;VALUE=DATE-TIME:20160310T131832Z
DESCRIPTION:Attività e proposte per la qualità nei Servizi Sanitari e So
 cio-Sanitari dalla parte del cittadino
LAST-MODIFIED;VALUE=DATE-TIME:20160603T094950Z
LOCATION:Aula delle Colonne\, Polo Roncati\, via S.Isaia 94 - Bologna
URL:https://www.ausl.bologna.it/eventi/archivio/auslevent.2016-03-10.30146
 05216
END:VEVENT
END:VCALENDAR
