BEGIN:VCALENDAR
VERSION:2.0
PRODID:-//Plone.org//NONSGML plone.app.event//EN
X-WR-TIMEZONE:Europe/Rome
BEGIN:VEVENT
SUMMARY:Corso di formazione - Tatuaggio e Piercing: aspetti di Igiene e Si
 curezza
DTSTART;VALUE=DATE-TIME:20160412T063000Z
DTEND;VALUE=DATE-TIME:20160413T150000Z
DTSTAMP;VALUE=DATE-TIME:20260422T120753Z
UID:0a970ecbdb4c8c29d728032338d30621@127.0.0.1:8095
ATTENDEE;CN="Il corso, della durata di 15 ore, è rivolto a tatuatori e pi
 ercer della Regione Emilia-Romagna";ROLE=REQ-PARTICIPANT:Il corso, della d
 urata di 15 ore, è rivolto a tatuatori e piercer della Regione Emilia-Rom
 agna
CATEGORIES:Corso di formazione
CONTACT:Per informazioni rivolgersi a U.O.C. Igiene e Sanità Pubblica Cit
 tà UOS Igiene Edilizia e Urbanistica \, Tel 051.6392905 \, segreteria.edi
 liziacentro@ausl.bologna.it
CREATED;VALUE=DATE-TIME:20160309T075649Z
DESCRIPTION:Il Dipartimento Sanità Pubblica dell’Ausl di Bologna\, in c
 ollaborazione con le Ausl di Imola e Ferrara\, organizza ogni anno il Cors
 o di formazione per tatuatori e piercer\n
LAST-MODIFIED;VALUE=DATE-TIME:20160603T094945Z
LOCATION:Zanhotel Europa via Boldrini 11 Bologna
URL:https://www.ausl.bologna.it/eventi/archivio/auslevent.2016-03-09.71111
 69948
END:VEVENT
END:VCALENDAR
