BEGIN:VCALENDAR
VERSION:2.0
PRODID:-//Plone.org//NONSGML plone.app.event//EN
X-WR-TIMEZONE:Europe/Rome
BEGIN:VEVENT
SUMMARY:Non solo mimosa
DTSTART;VALUE=DATE-TIME:20160226T153000Z
DTEND;VALUE=DATE-TIME:20160226T173000Z
DTSTAMP;VALUE=DATE-TIME:20260422T120753Z
UID:be99e549123c3350a02d1a143527dfbd@127.0.0.1:8095
CATEGORIES:Convegno
CREATED;VALUE=DATE-TIME:20160225T142038Z
DESCRIPTION:I risultati del progetto rivolto alle donne detenute alla Dozz
 a
LAST-MODIFIED;VALUE=DATE-TIME:20160504T075709Z
LOCATION:Bologna\, Palazzo d'Accursio
URL:https://www.ausl.bologna.it/eventi/archivio/auslevent.2016-02-25.87188
 24255
END:VEVENT
END:VCALENDAR
