BEGIN:VCALENDAR
VERSION:2.0
PRODID:-//Plone.org//NONSGML plone.app.event//EN
X-WR-TIMEZONE:Europe/Rome
BEGIN:VEVENT
SUMMARY:Cambiamenti Climatici e salute
DTSTART;VALUE=DATE-TIME:20160318T080000Z
DTEND;VALUE=DATE-TIME:20160318T160000Z
DTSTAMP;VALUE=DATE-TIME:20260422T121132Z
UID:5326e787abb95cace9372d4a987da781@127.0.0.1:8095
ATTENDEE;CN="Medici, infermieri, tecnici della prevenzione, assistenti san
 itari, chimici, fisici, biologi, assistenti sociali, ingegneri, architetti
 , psicologi, veterinari, farmacisti, statistici, agronomi";ROLE=REQ-PARTIC
 IPANT:Medici, infermieri, tecnici della prevenzione, assistenti sanitari, 
 chimici, fisici, biologi, assistenti sociali, ingegneri, architetti, psico
 logi, veterinari, farmacisti, statistici, agronomi
CONTACT:Rosa Domina\, rosa.domina@ausl.bologna.it
CREATED;VALUE=DATE-TIME:20160225T100930Z
DESCRIPTION:Come cambia il clima come il clima cambia la nostra salute
LAST-MODIFIED;VALUE=DATE-TIME:20160603T094929Z
LOCATION:Federfarma Bologna - via Garibaldi\, 3 - 40124 Bologna
URL:https://www.ausl.bologna.it/eventi/archivio/auslevent.2016-02-25.83611
 60013
END:VEVENT
END:VCALENDAR
