BEGIN:VCALENDAR
VERSION:2.0
PRODID:-//Plone.org//NONSGML plone.app.event//EN
X-WR-TIMEZONE:Europe/Rome
BEGIN:VEVENT
SUMMARY:Tra la Vita e la Morte. Due confraternite bolognesi tra Medioevo e
  Età Moderna
DTSTART;VALUE=DATE-TIME:20160227T193000Z
DTEND;VALUE=DATE-TIME:20160227T213000Z
DTSTAMP;VALUE=DATE-TIME:20260422T120753Z
UID:45ee837eb99f5261f7998938db2e7839@127.0.0.1:8095
CATEGORIES:Concerto
CREATED;VALUE=DATE-TIME:20160225T160533Z
DESCRIPTION:Concerti e Giornate di studio in occasione della mostra 
LAST-MODIFIED;VALUE=DATE-TIME:20160504T075710Z
LOCATION:Complesso monumentale di Santa Maria della Vita - Via Clavature\,
  8-10 - Bologna
URL:https://www.ausl.bologna.it/eventi/archivio/auslevent.2016-02-25.21315
 60715
END:VEVENT
END:VCALENDAR
