BEGIN:VCALENDAR
VERSION:2.0
PRODID:-//Plone.org//NONSGML plone.app.event//EN
X-WR-TIMEZONE:Europe/Rome
BEGIN:VEVENT
SUMMARY:Inaugurazione della Nuova Casa della Salute di Casalecchio di Reno
DTSTART;VALUE=DATE-TIME:20160312T090000Z
DTEND;VALUE=DATE-TIME:20160312T110000Z
DTSTAMP;VALUE=DATE-TIME:20260422T124856Z
UID:e6a7fc6a5f4b5217d81ced0116b36417@127.0.0.1:8095
CATEGORIES:Inaugurazione
CREATED;VALUE=DATE-TIME:20160225T111948Z
DESCRIPTION:Sabato 12 marzo 2016\, ore 10 - Piazza Rita Levi Montalcini 5\
 , Casalecchio di Reno
LAST-MODIFIED;VALUE=DATE-TIME:20160504T075708Z
LOCATION:Casalecchio di Reno\, Piazza Rita Levi Montalcini 5
URL:https://www.ausl.bologna.it/eventi/archivio/auslevent.2016-02-25.09781
 80269
END:VEVENT
END:VCALENDAR
