BEGIN:VCALENDAR
VERSION:2.0
PRODID:-//Plone.org//NONSGML plone.app.event//EN
X-WR-TIMEZONE:Europe/Rome
BEGIN:VEVENT
SUMMARY:Le vie del benessere
DTSTART;VALUE=DATE-TIME:20160226T090000Z
DTEND;VALUE=DATE-TIME:20160226T130000Z
DTSTAMP;VALUE=DATE-TIME:20260422T120753Z
UID:f23c000bebe6c41636c767584038f71d@127.0.0.1:8095
CATEGORIES:Incontro
CREATED;VALUE=DATE-TIME:20160223T125004Z
DESCRIPTION:Costruire salute e sicurezza insieme
LAST-MODIFIED;VALUE=DATE-TIME:20160504T075833Z
LOCATION:Bologna\, Santa Maria della Vita
URL:https://www.ausl.bologna.it/eventi/archivio/auslevent.2016-02-23.58971
 79815
END:VEVENT
END:VCALENDAR
