BEGIN:VCALENDAR
VERSION:2.0
PRODID:-//Plone.org//NONSGML plone.app.event//EN
X-WR-TIMEZONE:Europe/Rome
BEGIN:VEVENT
SUMMARY:Responsabilità professionale del personale sanitario: riflessioni
  sul disegno di legge approvato alla Camera
DTSTART;VALUE=DATE-TIME:20160226T083000Z
DTEND;VALUE=DATE-TIME:20160226T120000Z
DTSTAMP;VALUE=DATE-TIME:20260422T122046Z
UID:9bf3bc434a9893d8fa045f95e4fb88bc@127.0.0.1:8095
CATEGORIES:Convegno
CREATED;VALUE=DATE-TIME:20160223T133425Z
DESCRIPTION:Convegno 
LAST-MODIFIED;VALUE=DATE-TIME:20160603T094858Z
LOCATION:Aula Anfiteatro Centro di ricerca Coedivilla-Putti - Istituto Ort
 opedico Rizzoli\, Via di Barbiano\, 1/10
URL:https://www.ausl.bologna.it/eventi/archivio/auslevent.2016-02-23.36683
 07592
END:VEVENT
END:VCALENDAR
