BEGIN:VCALENDAR
VERSION:2.0
PRODID:-//Plone.org//NONSGML plone.app.event//EN
X-WR-TIMEZONE:Europe/Rome
BEGIN:VEVENT
SUMMARY:BENESSERE ORGANIZZATIVO MIGLIORARE LA QUALITA’ DEL LAVORO NELLE 
 AZIENDE SANITARIE 
DTSTART;VALUE=DATE-TIME:20160229T080000Z
DTEND;VALUE=DATE-TIME:20160229T123000Z
DTSTAMP;VALUE=DATE-TIME:20260420T150612Z
UID:7bbf477f7ae84a59667d6b28e711f809@127.0.0.1:8095
CATEGORIES:Convegno
CREATED;VALUE=DATE-TIME:20160219T145937Z
DESCRIPTION:Convegno
LAST-MODIFIED;VALUE=DATE-TIME:20160222T103233Z
LOCATION:Auditorium De Maurizi\, Ospedale Santa Maria della Scaletta - Imo
 la  
URL:https://www.ausl.bologna.it/eventi/archivio/auslevent.2016-02-19.60495
 50514
END:VEVENT
END:VCALENDAR
