BEGIN:VCALENDAR
VERSION:2.0
PRODID:-//Plone.org//NONSGML plone.app.event//EN
X-WR-TIMEZONE:Europe/Rome
BEGIN:VEVENT
SUMMARY:Farmaci\, usali bene
DTSTART;VALUE=DATE-TIME:20160225T150000Z
DTEND;VALUE=DATE-TIME:20160225T170000Z
DTSTAMP;VALUE=DATE-TIME:20260420T152022Z
UID:4e7abbbec80bfa4b831c1617d94f1b83@127.0.0.1:8095
CATEGORIES:Incontro
CONTACT:URP Distretto Pianura Est \, tel. 051 6662643 
CREATED;VALUE=DATE-TIME:20160215T082627Z
DESCRIPTION:A Funo di Argelato\, III incontro con i cittadini del Distrett
 o di Pianura Est
LAST-MODIFIED;VALUE=DATE-TIME:20160506T071657Z
LOCATION:Argelato\, Centro Civico in Piazza Resistenza\, 1 a Funo di Argel
 ato
URL:https://www.ausl.bologna.it/eventi/archivio/auslevent.2016-02-15.24982
 45328
END:VEVENT
END:VCALENDAR
