BEGIN:VCALENDAR
VERSION:2.0
PRODID:-//Plone.org//NONSGML plone.app.event//EN
X-WR-TIMEZONE:Europe/Rome
BEGIN:VEVENT
SUMMARY:Trauma: Update and organization - 11^ Edizione
DTSTART;VALUE=DATE-TIME:20160219T121500Z
DTEND;VALUE=DATE-TIME:20160220T153000Z
DTSTAMP;VALUE=DATE-TIME:20260420T151104Z
UID:714631452c02ab5766c233d777b33bcb@127.0.0.1:8095
CATEGORIES:Workshop - Convegno
CONTACT:Noemacongressi\, 051 230385
CREATED;VALUE=DATE-TIME:20160212T144658Z
LAST-MODIFIED;VALUE=DATE-TIME:20160222T103230Z
LOCATION:Hotel Savoia Regency Via Pilastro\, 2 – Bologna
URL:https://www.ausl.bologna.it/eventi/archivio/auslevent.2016-02-12.54736
 24339
END:VEVENT
END:VCALENDAR
