BEGIN:VCALENDAR
VERSION:2.0
PRODID:-//Plone.org//NONSGML plone.app.event//EN
X-WR-TIMEZONE:Europe/Rome
BEGIN:VEVENT
SUMMARY:Una sera a teatro
DTSTART;VALUE=DATE-TIME:20160305T190000Z
DTEND;VALUE=DATE-TIME:20160305T223000Z
DTSTAMP;VALUE=DATE-TIME:20260420T150507Z
UID:07ef46c536db4c50bf0760072564b99b@127.0.0.1:8095
CATEGORIES:Spettacolo musicale
CREATED;VALUE=DATE-TIME:20160211T124910Z
DESCRIPTION:Serata per Chico Onlus
LAST-MODIFIED;VALUE=DATE-TIME:20160222T121109Z
LOCATION:Teatro dell'Osservanza\, via Venturini 18\, Imola
URL:https://www.ausl.bologna.it/eventi/archivio/auslevent.2016-02-11.74887
 55044
END:VEVENT
END:VCALENDAR
