BEGIN:VCALENDAR
VERSION:2.0
PRODID:-//Plone.org//NONSGML plone.app.event//EN
X-WR-TIMEZONE:Europe/Rome
BEGIN:VEVENT
SUMMARY:La chirurgia a Budrio
DTSTART;VALUE=DATE-TIME:20160213T090000Z
DTEND;VALUE=DATE-TIME:20160213T120000Z
DTSTAMP;VALUE=DATE-TIME:20260420T150415Z
UID:e5fee612fa436fae9f8cb29c5fe22ecd@127.0.0.1:8095
CATEGORIES:Convegno
CREATED;VALUE=DATE-TIME:20160210T132125Z
DESCRIPTION:Convegno aperto a tutta la cittadinanza
LAST-MODIFIED;VALUE=DATE-TIME:20160222T103514Z
LOCATION:Budrio\, Torri dell'Acqua - Via Benni\, 1
URL:https://www.ausl.bologna.it/eventi/archivio/auslevent.2016-02-10.13963
 87480
END:VEVENT
END:VCALENDAR
