BEGIN:VCALENDAR
VERSION:2.0
PRODID:-//Plone.org//NONSGML plone.app.event//EN
X-WR-TIMEZONE:Europe/Rome
BEGIN:VEVENT
SUMMARY:Fate il nostro gioco
DTSTART;VALUE=DATE-TIME:20160222T080000Z
DTEND;VALUE=DATE-TIME:20160222T123000Z
DTSTAMP;VALUE=DATE-TIME:20260420T075520Z
UID:4176280e89f066ac3105951b22461813@127.0.0.1:8095
CATEGORIES:Conferenza
CREATED;VALUE=DATE-TIME:20160209T142803Z
DESCRIPTION:Campagna di informazione sulla matematica del gioco d'azzardo
LAST-MODIFIED;VALUE=DATE-TIME:20160504T075659Z
LOCATION:Teatro Comunale Laura Betti Piazza del Popolo\, 1 ‐ Casalecchio
  di Reno (BO)
URL:https://www.ausl.bologna.it/eventi/archivio/auslevent.2016-02-09.84700
 82470
END:VEVENT
END:VCALENDAR
