BEGIN:VCALENDAR
VERSION:2.0
PRODID:-//Plone.org//NONSGML plone.app.event//EN
X-WR-TIMEZONE:Europe/Rome
BEGIN:VEVENT
SUMMARY:Visita al percorso medico chirurgico dell'Ospedale Budrio
DTSTART;VALUE=DATE-TIME:20160213T080000Z
DTEND;VALUE=DATE-TIME:20160213T120000Z
DTSTAMP;VALUE=DATE-TIME:20260420T150505Z
UID:13b2a662936896cc9c015e502a1e6293@127.0.0.1:8095
CATEGORIES:Visita guidata
CONTACT:Staff del Sindaco di Budrio\, 051 6928219 oppure 051 6928320\, seg
 reteriasindaco@comune.budrio.bo.it
CREATED;VALUE=DATE-TIME:20160209T112120Z
DESCRIPTION:Sabato 13 febbraio 2016 dalle 0re 9
LAST-MODIFIED;VALUE=DATE-TIME:20160222T103513Z
LOCATION:Budrio\, Ospedale
URL:https://www.ausl.bologna.it/eventi/archivio/auslevent.2016-02-09.84564
 70902
END:VEVENT
END:VCALENDAR
