BEGIN:VCALENDAR
VERSION:2.0
PRODID:-//Plone.org//NONSGML plone.app.event//EN
X-WR-TIMEZONE:Europe/Rome
BEGIN:VEVENT
SUMMARY:Gestione ospedaliera e continuità assistenziale per il paziente a
 ffetto da diabete mellito
DTSTART;VALUE=DATE-TIME:20160405T060000Z
DTEND;VALUE=DATE-TIME:20160405T153000Z
DTSTAMP;VALUE=DATE-TIME:20260420T150611Z
UID:18c6c462a99744230324343904f79ca6@127.0.0.1:8095
CATEGORIES:Corso di aggiornamento
CONTACT:051809194\, monica.spisni@ausl.bologna.it
CREATED;VALUE=DATE-TIME:20160203T094454Z
DESCRIPTION:Dipartimento Medico IV Corso
LAST-MODIFIED;VALUE=DATE-TIME:20160603T094846Z
LOCATION:Ospedale San Giovanni in Persiceto
URL:https://www.ausl.bologna.it/eventi/archivio/auslevent.2016-02-03.43531
 85905
END:VEVENT
END:VCALENDAR
