BEGIN:VCALENDAR
VERSION:2.0
PRODID:-//Plone.org//NONSGML plone.app.event//EN
X-WR-TIMEZONE:Europe/Rome
BEGIN:VEVENT
SUMMARY:International  Epilepsy Day
DTSTART;VALUE=DATE-TIME:20160208T090000Z
DTEND;VALUE=DATE-TIME:20160208T190000Z
DTSTAMP;VALUE=DATE-TIME:20260420T143313Z
UID:332216535c1de85de13f8cd93604e141@127.0.0.1:8095
CATEGORIES:Giornata Internazionale
CREATED;VALUE=DATE-TIME:20160201T142945Z
DESCRIPTION:Giornata Internazionale 2016
LAST-MODIFIED;VALUE=DATE-TIME:20160222T103511Z
LOCATION:Bologna - Centro per l'Epilessia Ospedale Bellaria IRCCS - Via IV
  Novembre - Monumento del Nettuno 
URL:https://www.ausl.bologna.it/eventi/archivio/auslevent.2016-02-01.76327
 49749
END:VEVENT
END:VCALENDAR
