BEGIN:VCALENDAR
VERSION:2.0
PRODID:-//Plone.org//NONSGML plone.app.event//EN
X-WR-TIMEZONE:Europe/Rome
BEGIN:VEVENT
SUMMARY:Farmaci\, usali bene
DTSTART;VALUE=DATE-TIME:20160128T150000Z
DTEND;VALUE=DATE-TIME:20160128T170000Z
DTSTAMP;VALUE=DATE-TIME:20260420T150548Z
UID:1676ef8149959eb3fba08e3f57e32483@127.0.0.1:8095
CATEGORIES:Incontro
CONTACT:URP Distretto Pianura Est\, tel. 051 6662643
CREATED;VALUE=DATE-TIME:20160127T143211Z
DESCRIPTION:Incontro con i cittadini a San Pietro in Casale
LAST-MODIFIED;VALUE=DATE-TIME:20160506T080949Z
LOCATION:Centro Sociale e ricreativo
URL:https://www.ausl.bologna.it/eventi/archivio/auslevent.2016-01-27.71446
 96771
END:VEVENT
END:VCALENDAR
