BEGIN:VCALENDAR
VERSION:2.0
PRODID:-//Plone.org//NONSGML plone.app.event//EN
X-WR-TIMEZONE:Europe/Rome
BEGIN:VEVENT
SUMMARY:L’armonia delle energie: il benessere con la meditazione e le pr
 atiche Mente corpo
DTSTART;VALUE=DATE-TIME:20160218T130000Z
DTEND;VALUE=DATE-TIME:20160218T150000Z
DTSTAMP;VALUE=DATE-TIME:20260420T150956Z
UID:f70fc4569cff7d30cc98713a30b4b0ac@127.0.0.1:8095
ATTENDEE;CN="Tutti gli operatori dell'Ospedale Bellaria";ROLE=REQ-PARTICIP
 ANT:Tutti gli operatori dell'Ospedale Bellaria
CATEGORIES:Giornata di prevenzione
CONTACT:UOC Alimenti e nutrizione Città - DSP\, igienenutrizione@ausl.bol
 ogna.it
CREATED;VALUE=DATE-TIME:20160126T102843Z
DESCRIPTION:LE ISCRIZIONI SONO CHIUSE PER IL RAGGIUNGIMENTO DEL NUMERO MAS
 SIMO DEI POSTI DISPONIBILI\n\n
LAST-MODIFIED;VALUE=DATE-TIME:20160428T065324Z
LOCATION:Aula magna pad. Tinozzi - Ospedale Bellaria
URL:https://www.ausl.bologna.it/eventi/archivio/auslevent.2016-01-26.88398
 64217
END:VEVENT
END:VCALENDAR
