BEGIN:VCALENDAR
VERSION:2.0
PRODID:-//Plone.org//NONSGML plone.app.event//EN
X-WR-TIMEZONE:Europe/Rome
BEGIN:VEVENT
SUMMARY:Gli adolescenti nel cinema. Ciclo di film e conferenze
DTSTART;VALUE=DATE-TIME:20160321T191500Z
DTEND;VALUE=DATE-TIME:20160321T213000Z
DTSTAMP;VALUE=DATE-TIME:20260420T080042Z
UID:578c37faa27d0839020684e150388a93@127.0.0.1:8095
ATTENDEE;CN="Entrata libera";ROLE=REQ-PARTICIPANT:Entrata libera
CATEGORIES:Film
CONTACT:334/2533624 - 051/2197077
CREATED;VALUE=DATE-TIME:20160126T123654Z
DESCRIPTION:"Men\, women &children" (2014) - regia di Jason Reitman.\nComm
 enta Renzo Muraccini\, psichiatra Dip. Salute Mentale e DP - Azienda USL d
 i Bologna.
LAST-MODIFIED;VALUE=DATE-TIME:20160504T075832Z
LOCATION:Cinema Antoniano - Via Guido Guinizelli\, 3 - Bologna
URL:https://www.ausl.bologna.it/eventi/archivio/auslevent.2016-01-26.50551
 76406
END:VEVENT
END:VCALENDAR
