BEGIN:VCALENDAR
VERSION:2.0
PRODID:-//Plone.org//NONSGML plone.app.event//EN
X-WR-TIMEZONE:Europe/Rome
BEGIN:VEVENT
SUMMARY:Gli adolescenti nel cinema. Ciclo di film e conferenze
DTSTART;VALUE=DATE-TIME:20160314T191500Z
DTEND;VALUE=DATE-TIME:20160314T213000Z
DTSTAMP;VALUE=DATE-TIME:20260420T080217Z
UID:78bd3d15b63d9f0dea6013d807d39f6d@127.0.0.1:8095
ATTENDEE;CN="Entrata libera";ROLE=REQ-PARTICIPANT:Entrata libera
CATEGORIES:Film
CONTACT:334/2533624 - 051/2197077
CREATED;VALUE=DATE-TIME:20160125T165002Z
DESCRIPTION:La classe entre les murs (2008) - Regia di Laurent Cantet.\nCo
 mmenta Marco Antonio Bazzocchi\, docente Università degli studi di Bologn
 a.
LAST-MODIFIED;VALUE=DATE-TIME:20160504T075700Z
LOCATION:Cinema Antoniano - Via Guido Guinizelli\, 3 - Bologna
URL:https://www.ausl.bologna.it/eventi/archivio/auslevent.2016-01-25.47467
 20544
END:VEVENT
END:VCALENDAR
