BEGIN:VCALENDAR
VERSION:2.0
PRODID:-//Plone.org//NONSGML plone.app.event//EN
X-WR-TIMEZONE:Europe/Rome
BEGIN:VEVENT
SUMMARY:Gli adolescenti nel cinema. Ciclo di film e conferenze
DTSTART;VALUE=DATE-TIME:20160229T191500Z
DTEND;VALUE=DATE-TIME:20160229T213000Z
DTSTAMP;VALUE=DATE-TIME:20260420T080151Z
UID:de243602d9737fcc2bac842e4e2d8041@127.0.0.1:8095
ATTENDEE;CN="Entrata libera";ROLE=REQ-PARTICIPANT:Entrata libera
CATEGORIES:Film
CONTACT:334/2533624 - 051/2197077
CREATED;VALUE=DATE-TIME:20160125T163311Z
DESCRIPTION:"Diamante nero" (2014) di Céline Sciamma. \nCommenta Simona V
 inci\, scrittrice.\n
LAST-MODIFIED;VALUE=DATE-TIME:20160222T103401Z
LOCATION:Cinema Antoniano - Via Guido Guinizelli\, 3 - Bologna
URL:https://www.ausl.bologna.it/eventi/archivio/auslevent.2016-01-25.10407
 21128
END:VEVENT
END:VCALENDAR
