BEGIN:VCALENDAR
VERSION:2.0
PRODID:-//Plone.org//NONSGML plone.app.event//EN
X-WR-TIMEZONE:Europe/Rome
BEGIN:VEVENT
SUMMARY:Gli adolescenti nel cinema. Ciclo di film e conferenze 
DTSTART;VALUE=DATE-TIME:20160222T191500Z
DTEND;VALUE=DATE-TIME:20160222T213000Z
DTSTAMP;VALUE=DATE-TIME:20260420T080326Z
UID:3af80d42bb38f7b02d3a1708a2907173@127.0.0.1:8095
ATTENDEE;CN="Entra libera";ROLE=REQ-PARTICIPANT:Entra libera
CATEGORIES:Film
CONTACT:334/2533624 - 051/2197077
CREATED;VALUE=DATE-TIME:20160125T160111Z
DESCRIPTION:"Io e te" (2012) - Regia di Bernardo Bertolucci.\nCommenta Ire
 ne Ruggiero\, psicoanalista SPI.
LAST-MODIFIED;VALUE=DATE-TIME:20160222T103400Z
LOCATION:Cinema Antoniano - Via Guido Guinizelli\, 3 - Bologna
URL:https://www.ausl.bologna.it/eventi/archivio/auslevent.2016-01-25.08841
 18591
END:VEVENT
END:VCALENDAR
