BEGIN:VCALENDAR
VERSION:2.0
PRODID:-//Plone.org//NONSGML plone.app.event//EN
X-WR-TIMEZONE:Europe/Rome
BEGIN:VEVENT
SUMMARY:La prevenzione prima di tutto
DTSTART;VALUE=DATE-TIME:20160121T160000Z
DTEND;VALUE=DATE-TIME:20160121T183000Z
DTSTAMP;VALUE=DATE-TIME:20260420T144304Z
UID:63ba00ba34a19c1c6015bbc237748342@127.0.0.1:8095
CATEGORIES:Tavola rotonda
CONTACT:051 6225976\, bologna.race@komen.it
CREATED;VALUE=DATE-TIME:20160113T143725Z
DESCRIPTION:Susan G. Komen Italia: un appuntamento con la prevenzione
LAST-MODIFIED;VALUE=DATE-TIME:20160222T103358Z
LOCATION:Sala Conferenze Kelsen - CIRSFID Università di Bologna Via Galli
 era 3\, Bologna
URL:https://www.ausl.bologna.it/eventi/archivio/auslevent.2016-01-13.68326
 80243
END:VEVENT
END:VCALENDAR
