BEGIN:VCALENDAR
VERSION:2.0
PRODID:-//Plone.org//NONSGML plone.app.event//EN
X-WR-TIMEZONE:Europe/Rome
BEGIN:VEVENT
SUMMARY:La Chirugia a ciclo breve
DTSTART;VALUE=DATE-TIME:20160123T073000Z
DTEND;VALUE=DATE-TIME:20160123T122000Z
DTSTAMP;VALUE=DATE-TIME:20260422T133805Z
UID:4058360ce7a75d448cc648e8c9907160@127.0.0.1:8095
ATTENDEE;CN="Iscrizione online sul sito daysurgeryitalia.it";ROLE=REQ-PART
 ICIPANT:Iscrizione online sul sito daysurgeryitalia.it
CATEGORIES:corso
CREATED;VALUE=DATE-TIME:20160111T160836Z
DESCRIPTION:Week Surgery\, Day Surgery\, Chirurgia ambulatoriale - Parteci
 pazione gratuita per i dipendenti dell'Azienda USL di Bologna 
LAST-MODIFIED;VALUE=DATE-TIME:20160222T103357Z
LOCATION:A Porretta Terme (BO)\, Hotel Helvetia\, Piazzale Vittorio Veneto
 \, 11
URL:https://www.ausl.bologna.it/eventi/archivio/auslevent.2016-01-11.21636
 62382
END:VEVENT
END:VCALENDAR
