BEGIN:VCALENDAR
VERSION:2.0
PRODID:-//Plone.org//NONSGML plone.app.event//EN
X-WR-TIMEZONE:Europe/Rome
BEGIN:VEVENT
SUMMARY:Atrial Fibrillation and Stroke
DTSTART;VALUE=DATE-TIME:20160115T080000Z
DTEND;VALUE=DATE-TIME:20160116T123000Z
DTSTAMP;VALUE=DATE-TIME:20260422T133805Z
UID:20fbdeae6293b34118eb91c5e6665303@127.0.0.1:8095
CATEGORIES:International Workshop
CONTACT:39 (0)51 6144004
CREATED;VALUE=DATE-TIME:20151228T150441Z
DESCRIPTION:Back to the Future on Heart - Brain Interactions
LAST-MODIFIED;VALUE=DATE-TIME:20160222T103353Z
LOCATION:Bologna - Hotel Carlton\, Via Montebello 8
URL:https://www.ausl.bologna.it/eventi/archivio/auslevent.2015-12-28.88558
 07020
END:VEVENT
END:VCALENDAR
