BEGIN:VCALENDAR
VERSION:2.0
PRODID:-//Plone.org//NONSGML plone.app.event//EN
X-WR-TIMEZONE:Europe/Rome
BEGIN:VEVENT
SUMMARY:Tra la vita e la morte 
DTSTART;VALUE=DATE-TIME:20151227T093000Z
DTEND;VALUE=DATE-TIME:20151227T110000Z
DTSTAMP;VALUE=DATE-TIME:20260422T133816Z
UID:ccb5c1faf3860a7c77aa4d7ff15166f1@127.0.0.1:8095
ATTENDEE;CN="Prenotazione obbligatoria";ROLE=REQ-PARTICIPANT:Prenotazione 
 obbligatoria
CATEGORIES:Visita guidata alla mostra
CONTACT:051/2193916 - 2757209 - 6496652 \, edubolognamusei@comune.bologna.
 it
CREATED;VALUE=DATE-TIME:20151222T122634Z
DESCRIPTION:Due Confraternite bolognesi tra Medioevo e Età Moderna 
LAST-MODIFIED;VALUE=DATE-TIME:20160222T103351Z
LOCATION:Museo Civico Medievale - Via Manzoni\, 4 - Bologna 
URL:https://www.ausl.bologna.it/eventi/archivio/auslevent.2015-12-22.12566
 79093
END:VEVENT
END:VCALENDAR
