BEGIN:VCALENDAR
VERSION:2.0
PRODID:-//Plone.org//NONSGML plone.app.event//EN
X-WR-TIMEZONE:Europe/Rome
BEGIN:VEVENT
SUMMARY:Speciali visite guidate al Complesso Monumentale di Santa Maria de
 lla Vita   
DTSTART;VALUE=DATE-TIME:20151225T230000Z
DTEND;VALUE=DATE-TIME:20151225T230000Z
DTSTAMP;VALUE=DATE-TIME:20260420T183631Z
UID:bfdb617fcc3edccf08a02d74409e8fef@127.0.0.1:8095
ATTENDEE;CN="Prenotazione obbligatoria al n. 051/19936329 (dal martedì al
  sabato dalle ore 11.00 alle ore 17.30).";ROLE=REQ-PARTICIPANT:Prenotazion
 e obbligatoria al n. 051/19936329 (dal martedì al sabato dalle ore 11.00 
 alle ore 17.30).
ATTENDEE;CN="Per informazioni è possibile rivolgersi anche alla bigliette
 ria interna al Complesso di Santa Maria della Vita.";ROLE=REQ-PARTICIPANT:
 Per informazioni è possibile rivolgersi anche alla biglietteria interna a
 l Complesso di Santa Maria della Vita.
CATEGORIES:Visita guidata
CONTACT:didattica@genusbononiae.it
CREATED;VALUE=DATE-TIME:20151222T103707Z
DESCRIPTION:Bologna\, via Clavature\, 8-10\n
LAST-MODIFIED;VALUE=DATE-TIME:20160222T103350Z
LOCATION:Bologna - Complesso Monumentale di Santa Maria della Vita
URL:https://www.ausl.bologna.it/eventi/archivio/auslevent.2015-12-22.06991
 12925
END:VEVENT
END:VCALENDAR
