BEGIN:VCALENDAR
VERSION:2.0
PRODID:-//Plone.org//NONSGML plone.app.event//EN
X-WR-TIMEZONE:Europe/Rome
BEGIN:VEVENT
SUMMARY:Concerto Natalizio 
DTSTART;VALUE=DATE-TIME:20151219T193000Z
DTEND;VALUE=DATE-TIME:20151219T213000Z
DTSTAMP;VALUE=DATE-TIME:20260422T134316Z
UID:aacdd89a98c08dde17c0b9e58fe26426@127.0.0.1:8095
ATTENDEE;CN="Ingresso a offerta libera";ROLE=REQ-PARTICIPANT:Ingresso a of
 ferta libera
CATEGORIES:Concerto
CREATED;VALUE=DATE-TIME:20151217T144357Z
DESCRIPTION:Coro Stelutis di Bologna\, diretto da Silvia Vacchi
LAST-MODIFIED;VALUE=DATE-TIME:20160222T103246Z
LOCATION:Santuario di Santa Maria della Vita - Via Clavature\, 8 - Bologna
  
URL:https://www.ausl.bologna.it/eventi/archivio/auslevent.2015-12-17.52601
 55537
END:VEVENT
END:VCALENDAR
