BEGIN:VCALENDAR
VERSION:2.0
PRODID:-//Plone.org//NONSGML plone.app.event//EN
X-WR-TIMEZONE:Europe/Rome
BEGIN:VEVENT
SUMMARY:Uno sguardo dal cielo - Percorsi di avvicinamento all'elaborazione
  del lutto - IV^ edizione
DTSTART;VALUE=DATE-TIME:20151217T170000Z
DTEND;VALUE=DATE-TIME:20151217T190000Z
DTSTAMP;VALUE=DATE-TIME:20260422T133816Z
UID:4dab20cd1f4876264433d5c5e61cfb13@127.0.0.1:8095
ATTENDEE;CN="Ingresso gratuito - Gradita la prenotazione";ROLE=REQ-PARTICI
 PANT:Ingresso gratuito - Gradita la prenotazione
CATEGORIES:Laboratorio
CONTACT:349 3593164
CREATED;VALUE=DATE-TIME:20151217T150337Z
DESCRIPTION:"Perdita del fratello" 
LAST-MODIFIED;VALUE=DATE-TIME:20160222T103349Z
URL:https://www.ausl.bologna.it/eventi/archivio/auslevent.2015-12-17.25796
 62389
END:VEVENT
END:VCALENDAR
