BEGIN:VCALENDAR
VERSION:2.0
PRODID:-//Plone.org//NONSGML plone.app.event//EN
X-WR-TIMEZONE:Europe/Rome
BEGIN:VEVENT
SUMMARY:Integrazione socio‐sanitaria e cittadini stranieri in difficolt
 à quali bisogni\, quali risposte
DTSTART;VALUE=DATE-TIME:20151214T073000Z
DTEND;VALUE=DATE-TIME:20151214T133000Z
DTSTAMP;VALUE=DATE-TIME:20260422T134307Z
UID:c30898fab7c119631fc4c458cf5ddfc8@127.0.0.1:8095
ATTENDEE;CN="Professionisti che operano nei sevizi socio‐sanitari e che 
 lavorano a contatto con utenti stranieri";ROLE=REQ-PARTICIPANT:Professioni
 sti che operano nei sevizi socio‐sanitari e che lavorano a contatto con 
 utenti stranieri
CATEGORIES:Corso di formazione
CREATED;VALUE=DATE-TIME:20151210T113323Z
DESCRIPTION:Corso di formazione
LAST-MODIFIED;VALUE=DATE-TIME:20160222T103245Z
LOCATION:Aula Cesare Cesari c/o Casa dei Donatori di Sangue AVIS Via dell
 ’Ospedale\, 20 ‐ Bologna
URL:https://www.ausl.bologna.it/eventi/archivio/auslevent.2015-12-10.99515
 18954
END:VEVENT
END:VCALENDAR
