BEGIN:VCALENDAR
VERSION:2.0
PRODID:-//Plone.org//NONSGML plone.app.event//EN
X-WR-TIMEZONE:Europe/Rome
BEGIN:VEVENT
SUMMARY:Le ricadute dei Regolamenti Reach e CLP nella Grande Distribuzione
  e nella vendita al dettaglio
DTSTART;VALUE=DATE-TIME:20151217T083000Z
DTEND;VALUE=DATE-TIME:20151217T123000Z
DTSTAMP;VALUE=DATE-TIME:20260422T133815Z
UID:eab6022f9accb886f121f2260dc6f872@127.0.0.1:8095
ATTENDEE;CN="Il seminario è rivolto ai rivenditori al dettaglio di prodot
 ti ed articoli che per alcuni aspetti sono soggetti ai regolamenti REACH e
  CLP.";ROLE=REQ-PARTICIPANT:Il seminario è rivolto ai rivenditori al dett
 aglio di prodotti ed articoli che per alcuni aspetti sono soggetti ai rego
 lamenti REACH e CLP.
CONTACT:Anita Zambonelli\, Fax. 051-6224338\, a.zambonelli@ausl.bologna.it
CREATED;VALUE=DATE-TIME:20151209T102351Z
DESCRIPTION:I nuclei ispettivi della provincia di Bologna si confrontano c
 on le aziende interessate
LAST-MODIFIED;VALUE=DATE-TIME:20160222T103241Z
LOCATION:Bologna - Sede Polifunzionale AUSL Bologna Via Gramsci\, 12
URL:https://www.ausl.bologna.it/eventi/archivio/auslevent.2015-12-09.15316
 90203
END:VEVENT
END:VCALENDAR
