BEGIN:VCALENDAR
VERSION:2.0
PRODID:-//Plone.org//NONSGML plone.app.event//EN
X-WR-TIMEZONE:Europe/Rome
BEGIN:VEVENT
SUMMARY:Nuovo Centro di Donazione del sangue di San Pietro in Casale
DTSTART;VALUE=DATE-TIME:20151205T093000Z
DTEND;VALUE=DATE-TIME:20151205T113000Z
DTSTAMP;VALUE=DATE-TIME:20260422T134317Z
UID:438de8e49fcf0cac123d556e2f5ed18b@127.0.0.1:8095
CATEGORIES:Inaugurazione
CREATED;VALUE=DATE-TIME:20151130T100659Z
DESCRIPTION:Inaugurazione sabato 5 dicembre ore 10.30
LAST-MODIFIED;VALUE=DATE-TIME:20160222T103238Z
LOCATION:San Pietro in Casale\, Polo Sanitario Bonora - Via Asia\, 61
URL:https://www.ausl.bologna.it/eventi/archivio/auslevent.2015-11-30.59258
 68284
END:VEVENT
END:VCALENDAR
