BEGIN:VCALENDAR
VERSION:2.0
PRODID:-//Plone.org//NONSGML plone.app.event//EN
X-WR-TIMEZONE:Europe/Rome
BEGIN:VEVENT
SUMMARY:LA DONAZIONE DI CORNEE dal prelievo al trapianto
DTSTART;VALUE=DATE-TIME:20151211T123000Z
DTEND;VALUE=DATE-TIME:20151211T160000Z
DTSTAMP;VALUE=DATE-TIME:20260422T133816Z
UID:455080125b1838e8042c8950f36411f2@127.0.0.1:8095
ATTENDEE;CN="Il corso è accreditato per medici oculisti, medici di aneste
 sia e rianimazione, infermieri, tecnici sanitari di laboratorio biomedico,
  biologi.";ROLE=REQ-PARTICIPANT:Il corso è accreditato per medici oculist
 i, medici di anestesia e rianimazione, infermieri, tecnici sanitari di lab
 oratorio biomedico, biologi.
CATEGORIES:corso
CREATED;VALUE=DATE-TIME:20151130T130203Z
LAST-MODIFIED;VALUE=DATE-TIME:20160222T103240Z
LOCATION:Aula Cesare Cesari Casa dei donatori di sangue via dell’Ospedal
 e 20\, Bologna
URL:https://www.ausl.bologna.it/eventi/archivio/auslevent.2015-11-30.25716
 44939
END:VEVENT
END:VCALENDAR
