BEGIN:VCALENDAR
VERSION:2.0
PRODID:-//Plone.org//NONSGML plone.app.event//EN
X-WR-TIMEZONE:Europe/Rome
BEGIN:VEVENT
SUMMARY:La ricerca della felicità
DTSTART;VALUE=DATE-TIME:20151125T073000Z
DTEND;VALUE=DATE-TIME:20151125T130000Z
DTSTAMP;VALUE=DATE-TIME:20260422T134316Z
UID:db691f956843473ce2f75f2f50694541@127.0.0.1:8095
CATEGORIES:Giornata
CREATED;VALUE=DATE-TIME:20151118T125439Z
DESCRIPTION:Riconoscere e valorizzare le competenze delle donne nella soci
 età contemporanea 
LAST-MODIFIED;VALUE=DATE-TIME:20160222T103232Z
LOCATION:Aula Magna Murri\, Ospedale S. Orsola-Malpighi - Bologna 
URL:https://www.ausl.bologna.it/eventi/archivio/auslevent.2015-11-18.97095
 63331
END:VEVENT
END:VCALENDAR
