BEGIN:VCALENDAR
VERSION:2.0
PRODID:-//Plone.org//NONSGML plone.app.event//EN
X-WR-TIMEZONE:Europe/Rome
BEGIN:VEVENT
SUMMARY:Uno sguardo al cielo 
DTSTART;VALUE=DATE-TIME:20151119T193000Z
DTEND;VALUE=DATE-TIME:20151119T213000Z
DTSTAMP;VALUE=DATE-TIME:20260421T203533Z
UID:559dfedeb3b19f3172b1c5ff5321b646@127.0.0.1:8095
ATTENDEE;CN="Ingresso grautio - E' gradita la prenotazione";ROLE=REQ-PARTI
 CIPANT:Ingresso grautio - E' gradita la prenotazione
CATEGORIES:Conversazione
CONTACT:349/3593164
CREATED;VALUE=DATE-TIME:20151118T175336Z
DESCRIPTION:Interventi di supporto psicologico e psicoterapeutico rivolto 
 ai pazienti oncologici e ai loro familiari: l'esperienza presso il Policli
 nico S.Orsola Malpighi di Bologna 
LAST-MODIFIED;VALUE=DATE-TIME:20160222T103234Z
LOCATION:Dipartimento di Studi Umanistici - Aula Magna Drigo\, Via Paradis
 o 12 - Ferrara 
URL:https://www.ausl.bologna.it/eventi/archivio/auslevent.2015-11-18.94947
 16300
END:VEVENT
END:VCALENDAR
