BEGIN:VCALENDAR
VERSION:2.0
PRODID:-//Plone.org//NONSGML plone.app.event//EN
X-WR-TIMEZONE:Europe/Rome
BEGIN:VEVENT
SUMMARY:Giornata mondiale del Neonato pretermine 
DTSTART;VALUE=DATE-TIME:20151122T100000Z
DTEND;VALUE=DATE-TIME:20151122T120000Z
DTSTAMP;VALUE=DATE-TIME:20260422T133805Z
UID:550bc1800a453c0f0301464f81de3932@127.0.0.1:8095
CATEGORIES:Festa
CREATED;VALUE=DATE-TIME:20151118T130459Z
DESCRIPTION:Rinfresco organizzato da La Chiocciola Onlus per celebrare ins
 ieme la Giornata mondiale della prematurità.\n\n
LAST-MODIFIED;VALUE=DATE-TIME:20160222T103233Z
LOCATION:Maternità Ospedale Maggiore\, Largo Nigrisoli\, 2 - Bologna
URL:https://www.ausl.bologna.it/eventi/archivio/auslevent.2015-11-18.54647
 75202
END:VEVENT
END:VCALENDAR
