BEGIN:VCALENDAR
VERSION:2.0
PRODID:-//Plone.org//NONSGML plone.app.event//EN
X-WR-TIMEZONE:Europe/Rome
BEGIN:VEVENT
SUMMARY:Al centro la persona... non la malattia  
DTSTART;VALUE=DATE-TIME:20151120T160000Z
DTEND;VALUE=DATE-TIME:20151120T180000Z
DTSTAMP;VALUE=DATE-TIME:20260422T133805Z
UID:59e5a74d2964a564bfb1a2b7ec7e7bd8@127.0.0.1:8095
CATEGORIES:Conferenza pubblica
CREATED;VALUE=DATE-TIME:20151118T124601Z
DESCRIPTION:Percorsi di supporto psicofisico per pazienti oncologiche 
LAST-MODIFIED;VALUE=DATE-TIME:20160222T103231Z
LOCATION:Città metropolitna di Bologna - Sala Zodiaco\, Palazzo Malvezzi 
 - Via Zamboni\, 1 
URL:https://www.ausl.bologna.it/eventi/archivio/auslevent.2015-11-18.48258
 53690
END:VEVENT
END:VCALENDAR
